BEGIN:VCALENDAR
VERSION:2.0
PRODID:-//eventon.com NONSGML v1.0//EN
BEGIN:VEVENT
UID:69e5f8283d3cf
DTSTAMP:20260420T115552
DTSTART:20200424T220000Z
DTEND:20200425T215000Z
LOCATION:
SUMMARY:57645 Nister (MT) Kirmes - Festzelt (Abgesagt)
DESCRIPTION: 57645 Nister (MT) Kirmes - Festzelt (Abgesagt)
END:VEVENT
END:VCALENDAR